BEGIN:VCALENDAR
VERSION:2.0
PRODID:-//Walter J. Lanier - ECPv6.15.20//NONSGML v1.0//EN
CALSCALE:GREGORIAN
METHOD:PUBLISH
X-WR-CALNAME:Walter J. Lanier
X-ORIGINAL-URL:http://wjlanier.com
X-WR-CALDESC:Events for Walter J. Lanier
REFRESH-INTERVAL;VALUE=DURATION:PT1H
X-Robots-Tag:noindex
X-PUBLISHED-TTL:PT1H
BEGIN:VTIMEZONE
TZID:America/New_York
BEGIN:DAYLIGHT
TZOFFSETFROM:-0500
TZOFFSETTO:-0400
TZNAME:EDT
DTSTART:20160313T070000
END:DAYLIGHT
BEGIN:STANDARD
TZOFFSETFROM:-0400
TZOFFSETTO:-0500
TZNAME:EST
DTSTART:20161106T060000
END:STANDARD
BEGIN:DAYLIGHT
TZOFFSETFROM:-0500
TZOFFSETTO:-0400
TZNAME:EDT
DTSTART:20170312T070000
END:DAYLIGHT
BEGIN:STANDARD
TZOFFSETFROM:-0400
TZOFFSETTO:-0500
TZNAME:EST
DTSTART:20171105T060000
END:STANDARD
BEGIN:DAYLIGHT
TZOFFSETFROM:-0500
TZOFFSETTO:-0400
TZNAME:EDT
DTSTART:20180311T070000
END:DAYLIGHT
BEGIN:STANDARD
TZOFFSETFROM:-0400
TZOFFSETTO:-0500
TZNAME:EST
DTSTART:20181104T060000
END:STANDARD
END:VTIMEZONE
BEGIN:VTIMEZONE
TZID:UTC
BEGIN:STANDARD
TZOFFSETFROM:+0000
TZOFFSETTO:+0000
TZNAME:UTC
DTSTART:20160101T000000
END:STANDARD
END:VTIMEZONE
BEGIN:VEVENT
DTSTART;TZID=America/New_York:20171025T090000
DTEND;TZID=America/New_York:20171025T210000
DTSTAMP:20260424T012927
CREATED:20170918T052745Z
LAST-MODIFIED:20170918T052745Z
UID:1865-1508922000-1508965200@wjlanier.com
SUMMARY:Mental Health Awareness Day MKE
DESCRIPTION:Alpha Kappa Alpha Sorority\, Inc. Upsilon Mu Omega Chapter in collaboration with MATC’s Multicultural and Men of Color Program: \nDuring the day at MATC\, we will have resource tables in the building. \nOver the lunch hour\, there will be a presentation/workshop on mental illness. \nIn the evening\, we will show a production of the play\, “Pieces: In My Own Voice.” http://www.piecesinmyownvoice.com
URL:http://wjlanier.com/event/mental-health-awareness-day-mke/
LOCATION:Milwaukee Area Technical College\, 700 W State St\, Milwaukee\, WI\, 53233-1443\, United States
CATEGORIES:Mental Health Events
ATTACH;FMTTYPE=image/jpeg:http://wjlanier.com/wp-content/uploads/2017/09/a8d81fde91b53d326b65300633270f30.jpg
END:VEVENT
BEGIN:VEVENT
DTSTART;TZID=UTC:20170912T120000
DTEND;TZID=UTC:20170912T170000
DTSTAMP:20260424T012927
CREATED:20170817T201119Z
LAST-MODIFIED:20170817T201514Z
UID:1763-1505217600-1505235600@wjlanier.com
SUMMARY:Building Bridges Toward Authentic Inclusion: Milwaukee Mental Health Task Force
DESCRIPTION:Building Bridges Towards Authentic Inclusion – 2017 Forum\n\nMilwaukee Mental Health Task Force invites you to our 2017 Forum:\nBuilding Bridges Towards Authentic Inclusion\nStructural Racism & Implicit Bias\, Microaggressions: meaning and next steps\nTuesday\, September 12\, 2017\nIndependenceFirst\, 540 S. 1st St.\n12:00 p.m. – 12:30 p.m. Registration\, refreshments & networking\n12:30 p.m. – 5:00 p.m. Program & presentation of the 4th Annual Karen Avery Award\nRegister online at www.milwaukeemhtf.org/2017forum \n\nhttp://www.milwaukeemhtf.org/2017/08/07/building-bridges-towards-authentic-inclusion-2017-forum.html
URL:http://wjlanier.com/event/building-bridges-toward-authentic-inclusion-milwaukee-mental-health-task-force/
LOCATION:Independence First\, 540 S. 1st Street\, Milwaukee\, WI\, United States
CATEGORIES:Mental Health Events
ATTACH;FMTTYPE=image/jpeg:http://wjlanier.com/wp-content/uploads/2017/08/IMG_4659.jpg
END:VEVENT
END:VCALENDAR